BEGIN:VCALENDAR
VERSION:2.0
PRODID:icalendar-ruby
CALSCALE:GREGORIAN
X-WR-TIMEZONE:Europe/Helsinki
BEGIN:VTIMEZONE
TZID:Europe/Helsinki
BEGIN:DAYLIGHT
DTSTART:20260329T040000
TZOFFSETFROM:+0200
TZOFFSETTO:+0300
RRULE:FREQ=YEARLY;BYDAY=-1SU;BYMONTH=3
TZNAME:EEST
END:DAYLIGHT
BEGIN:STANDARD
DTSTART:20261025T030000
TZOFFSETFROM:+0300
TZOFFSETTO:+0200
RRULE:FREQ=YEARLY;BYDAY=-1SU;BYMONTH=10
TZNAME:EET
END:STANDARD
END:VTIMEZONE
BEGIN:VEVENT
DTSTAMP:20260423T182527
UID:nokianpyry.myclub.fi-1998344
DTSTART;TZID=Europe/Helsinki:20200216T163000
DTEND;TZID=Europe/Helsinki:20200216T171500
DESCRIPTION:Alkeisuimakoulu on tarkoitettu 5-7-vuotiaille lapsille. Uimaope
 tus tapahtuu pääasiallisesti lastenaltaassa (syvyys 80-100 cm\, +32C)\, 
 mutta uimarit käyvät pulahtamassa ja totuttelemassa kurssin edetessä my
 ös kuntoaltaassa. Alkeisuimakoulussa harjoitellaan erilaisten leikkien ja
  harjoitusten avulla uinnin alkeita: sukeltamista\, liukumista\, kellumist
 a ja etenemistä vedessä. Ohjaaja on lasten kanssa vedessä. \n\n Harjoit
 ukset: SU 16.30-17.15 \n\n\nPeruutusehdot \n\n\nIlmoittautuminen on sitova
 . Osallistumisen viimeinen peruutuspäivä on yksi viikko ennen kurssin al
 kua. Tämän jälkeen peruutetusta paikasta veloitetaan täysi maksu. Aino
 astaan lääkärintodistusta vastaan peruuttaminen on mahdollista veloituk
 setta alle viikko ennen kurssin alkua. Järjestäjästä riippumattomista 
 syistä peruutettuja uintikertoja ei korvata. Pidätämme oikeuden tarvitt
 aessa muuttaa ryhmien kokoonpanoja ja ajankohtia. Ilmoittautumalla hyväks
 yy nämä peruutusehdot.  \nPeruutukset pyydämme tekemään osoitteeseen 
 uinti@nokianpyry.fi \n\n\nSeuran jäsenyys \n\n\nUimari liittyy Pyryn jäs
 eneksi\, kun ilmoittautuu uintiryhmään.  Uintiryhmän hinta ei sisällä
  Pyryn jäsenmaksua vaan pääseura laskuttaa sen erikseen kunkin kalenter
 ivuoden alussa. Jäsenmaksu on voimassa aina kalenterivuoden. Vuotuinen j
 äsenmaksu on 15-vuotiailta ja nuoremmilta 15 e ja yli 15-vuotiailta 30 e.
  Lisätietoa seuran jäsenyydestä löydät osoitteesta www.nokianpyry.fi 
 \n\nhttps://nokianpyry.myclub.fi/flow/events/1998344
LOCATION:Nokian Uimahalli\, Välikatu 24\, 37100 Nokia
SEQUENCE:0
SUMMARY:Alkeisuimakoulu MERIHEVOSET - Uinti Nokian Pyry: Alkeisuimakoulu Me
 rihevoset
URL;VALUE=URI:https://nokianpyry.myclub.fi/flow/events/1998344
END:VEVENT
END:VCALENDAR
